BEGIN:VCALENDAR
VERSION:2.0
PRODID:-//99.86.63.39//NONSGML kigkonsult.se iCalcreator 2.26.9//
CALSCALE:GREGORIAN
METHOD:PUBLISH
X-FROM-URL:https://seconddistrictcourt.nmcourts.gov
X-WR-TIMEZONE:America/Denver
BEGIN:VTIMEZONE
TZID:America/Denver
X-LIC-LOCATION:America/Denver
BEGIN:STANDARD
DTSTART:20211107T020000
TZOFFSETFROM:-0600
TZOFFSETTO:-0700
RDATE:20221106T020000
TZNAME:MST
END:STANDARD
BEGIN:DAYLIGHT
DTSTART:20210314T020000
TZOFFSETFROM:-0700
TZOFFSETTO:-0600
RDATE:20220313T020000,20230312T020000
TZNAME:MDT
END:DAYLIGHT
END:VTIMEZONE
BEGIN:VEVENT
UID:ai1ec-5766@seconddistrictcourt.nmcourts.gov
DTSTAMP:20211010T013156Z
CATEGORIES;LANGUAGE=en-US:Test
CONTACT:
DESCRIPTION:<div class='et-l et-l--post'>\n			<div class='et_builder_inner_con
 tent et_pb_gutters3'><div class='et_pb_section et_pb_section_0 et_section_
 regular' >\n				\n				\n				\n				\n								<div class='et_pb_row et_pb_row_0'>\n								<div class='et_pb
 _column et_pb_column_4_4 et_pb_column_0  et_pb_css_mix_blend_mode_passthro
 ugh et-last-child et_pb_column_empty'>\n				\n				\n				\n			</div>			\n				\n				\n			</div>		\n				\n				\n			</di
 v>		</div>\n	</div>
DTSTART;VALUE=DATE:20210812
DTEND;VALUE=DATE:20210813
LOCATION:2nd District Court @ 400 Lomas Blvd NW\, Albuquerque\, NM 87102
SEQUENCE:0
SUMMARY:This is an event
URL:https://seconddistrictcourt.nmcourts.gov/event/this-is-an-event/
X-COST-TYPE:free
END:VEVENT
END:VCALENDAR
